Workbook

Sheet PRESUPUESTO
A1: PROYECTO DIGITALIZACIÓN ABASTECIMIENTO BARRENDIOLA & ARRIARAN & LAREO
A2: Presupuesto
A3: Código | B3: Codigo | C3: TRABAJO | E3: Resumen | F3: Cantidad | H3: Presupuesto unitario | I3: Importe Presupuesto
A4: CAP.01 | E4: SUMINISTRO DE MATERIAL SOLUCIÓN DE CONTROL PARA ESTACIONES REMOTAS BARRENDIOLA | I4: =I1139 -> 135179.07
A5: SUBCAPÍTULO 01.01 | E5: ER1 PRESA | I5: =I83 -> 13868.563
A6: 01.01.01 | B6: CARRIL | C6: HARDWARE | D6: PERFIL_M | E6: =VLOOKUP($D6,PRECIOS_REFERENCIAS!A$3:D$98,2,FALSE) -> PERFIL 1500 480 mm | F6: 1 | G6: UD. | H6: =VLOOKUP($D6,PRECIOS_REFERENCIAS!A$3:D$90,4,FALSE) -> 28.5525 | I6: =H6*F6 -> 28.5525
E7: =VLOOKUP($D6,PRECIOS_REFERENCIAS!A$3:D$98,3,FALSE) -> S7-1500 PERFIL 480 MM // 6ES7590-1AE80-0AA0
A8: 01.01.02 | B8: INST. | C8: INST | D8: INST_CARRIL | E8: =VLOOKUP($D8,PRECIOS_REFERENCIAS!A$3:D$98,2,FALSE) -> INSTALACION CARRIL DIN | F8: =F6 -> 1 | G8: UD. | H8: =VLOOKUP($D8,PRECIOS_REFERENCIAS!A$3:D$90,4,FALSE) -> 35.402253 | I8: =H8*F8 -> 35.402253
E9: =VLOOKUP($D8,PRECIOS_REFERENCIAS!A$3:D$98,3,FALSE) -> SUSTITUCIÓN DE PERFIL SOPORTE DE PLC EXISTENTE POR NUEVO PERFIL DE PLC DEFINIDO, DENTRO DEL ARMARIO ELÉCTRICO ACTUAL.
A10: 01.01.03 | B10: FA1500 | C10: HARDWARE | D10: FA1500 | E10: =VLOOKUP($D10,PRECIOS_REFERENCIAS!A$3:D$98,2,FALSE) -> SUMINISTRO DE FUENTE ALIMENTACIÓN CPU 1500 | F10: 1 | G10: UD. | H10: =VLOOKUP($D10,PRECIOS_REFERENCIAS!A$3:D$100,4,FALSE) -> 180.015 | I10: =H10*F10 -> 180.015
E11: =VLOOKUP($D10,PRECIOS_REFERENCIAS!A$3:D$98,3,FALSE) -> SITOP PSU6200 24 V/10 A //6EP3334-7SB00-3AX0
A12: 01.01.04 | B12: CPU1500 | C12: HARDWARE | D12: CPU1500 | E12: =VLOOKUP($D12,PRECIOS_REFERENCIAS!A$3:D$98,2,FALSE) -> SUMINISTRO DE CPU CONCENTRADOR | F12: 1 | G12: UD. | H12: =VLOOKUP($D12,PRECIOS_REFERENCIAS!A$3:D$100,4,FALSE) -> 2648.715 | I12: =H12*F12 -> 2648.715
E13: =VLOOKUP($D12,PRECIOS_REFERENCIAS!A$3:D$98,3,FALSE) -> CPU 1515-2 PN, 1MB Prog., 4,5MB Data // 6ES7515-2AN03-0AB0
A14: 01.01.05 | B14: INST. | C14: INST | D14: INST_CPU | E14: =VLOOKUP($D14,PRECIOS_REFERENCIAS!A$3:D$99,2,FALSE) -> INSTALACION CPU | F14: 1 | G14: UD. | H14: =VLOOKUP($D14,PRECIOS_REFERENCIAS!A$3:D$100,4,FALSE) -> 123.90076 | I14: =H14*F14 -> 123.90076
E15: =VLOOKUP($D14,PRECIOS_REFERENCIAS!A$3:D$99,3,FALSE) -> SUSTITUCIÓN DE CPU DE PLC EXISTENTE POR NUEVA CPU DE PLC DEFINIDA
A16: 01.01.06 | B16: MEMOALIM | C16: HARDWARE | D16: MEMOCARD | E16: =VLOOKUP($D16,PRECIOS_REFERENCIAS!A$3:D$98,2,FALSE) -> TARJETA DE MEMORIA S7-1500 | F16: 1 | G16: UD. | H16: =VLOOKUP($D16,PRECIOS_REFERENCIAS!A$3:D$100,4,FALSE) -> 361.47 | I16: =H16*F16 -> 361.47
E17: =VLOOKUP($D16,PRECIOS_REFERENCIAS!A$3:D$98,3,FALSE) -> SIMATIC S7 Memory Card, 256 MB //6ES7954-8LL04-0AA0
A18: 01.01.07 | B18: ED1500 | C18: HARDWARE | D18: ED1500 | E18: =VLOOKUP($D18,PRECIOS_REFERENCIAS!A$3:D$99,2,FALSE) -> SUMINISTRO MÓDULO DE 32 ENTRADAS DIGITALES | F18: 2 | G18: UD. | H18: =VLOOKUP($D18,PRECIOS_REFERENCIAS!A$3:D$100,4,FALSE) -> 308.82 | I18: =H18*F18 -> 617.64
E19: =VLOOKUP($D18,PRECIOS_REFERENCIAS!A$3:D$99,3,FALSE) -> SIMATIC S7-1500, Módulo de 32 Entradas Digitales // 6ES7521-1BL00-0AB0
A20: 01.01.08 | B20: INST. | C20: INST | D20: INST_ED | E20: =VLOOKUP($D20,PRECIOS_REFERENCIAS!A$3:D$99,2,FALSE) -> INSTALACION ED | F20: 2 | G20: UD. | H20: =VLOOKUP($D20,PRECIOS_REFERENCIAS!A$3:D$100,4,FALSE) -> 161.9731 | I20: =H20*F20 -> 323.9462
E21: =VLOOKUP($D20,PRECIOS_REFERENCIAS!A$3:D$99,3,FALSE) -> SUSTITUCIÓN DE MÓDULO DE E/S DIGITALES DE PLC EXISTENTE POR NUEVO MÓDULO DE PLC DEFINIDO. ENTRADA DIGITAL 16
A22: 01.01.09 | B22: INST. | C22: HARDWARE | D22: ENC_FRONTAL | E22: =VLOOKUP($D22,PRECIOS_REFERENCIAS!A$3:D$99,2,FALSE) -> SUMINISTRO ENCHUFE FRONTAL | F22: =F18 -> 2 | G22: UD. | H22: =VLOOKUP($D22,PRECIOS_REFERENCIAS!A$3:D$100,4,FALSE) -> 34.9875 | I22: =H22*F22 -> 69.975
E23: =VLOOKUP($D22,PRECIOS_REFERENCIAS!A$3:D$99,3,FALSE) -> Enchufe frontal Push-in (mód. de 35mm) // 6ES7592-1BM00-0XB0
A24: 01.01.10 | B24: SD1500 | C24: HARDWARE | D24: SD1500 | E24: =VLOOKUP($D24,PRECIOS_REFERENCIAS!A$3:D$99,2,FALSE) -> SUMINISTRO MÓDULO DE 32 SALIDAS DIGITALES | F24: 2 | G24: UD. | H24: =VLOOKUP($D24,PRECIOS_REFERENCIAS!A$3:D$100,4,FALSE) -> 439.44 | I24: =H24*F24 -> 878.88
E25: =VLOOKUP($D24,PRECIOS_REFERENCIAS!A$3:D$99,3,FALSE) -> SIMATIC S7-1500, Módulo de 32 Salidas Digitales // 6ES7522-1BL01-0AB0
A26: 01.01.11 | B26: INST. | C26: INST | D26: INST_SD | E26: =VLOOKUP($D26,PRECIOS_REFERENCIAS!A$3:D$99,2,FALSE) -> INSTALACION SD | F26: =F24 -> 2 | G26: UD. | H26: =VLOOKUP($D26,PRECIOS_REFERENCIAS!A$3:D$100,4,FALSE) -> 162.83522 | I26: =H26*F26 -> 325.67045
E27: =VLOOKUP($D26,PRECIOS_REFERENCIAS!A$3:D$99,3,FALSE) -> SUSTITUCIÓN DE MÓDULO DE E/S DIGITALES DE PLC EXISTENTE POR NUEVO MÓDULO DE PLC DEFINIDO. SALIDA DIGITAL 16
A28: 01.01.12 | B28: INST. | C28: HARDWARE | D28: ENC_FRONTAL | E28: =VLOOKUP($D28,PRECIOS_REFERENCIAS!A$3:D$99,2,FALSE) -> SUMINISTRO ENCHUFE FRONTAL | F28: =F24 -> 2 | G28: UD. | H28: =VLOOKUP($D28,PRECIOS_REFERENCIAS!A$3:D$100,4,FALSE) -> 34.9875 | I28: =H28*F28 -> 69.975
E29: =VLOOKUP($D28,PRECIOS_REFERENCIAS!A$3:D$99,3,FALSE) -> Enchufe frontal Push-in (mód. de 35mm) // 6ES7592-1BM00-0XB0
A30: 01.01.13 | B30: EA1500 | C30: HARDWARE | D30: EA1500 | E30: =VLOOKUP($D30,PRECIOS_REFERENCIAS!A$3:D$99,2,FALSE) -> SUMINISTRO MÓDULO DE 8 ENTRADAS ANALÓGICAS | F30: 2 | G30: UD. | H30: =VLOOKUP($D30,PRECIOS_REFERENCIAS!A$3:D$100,4,FALSE) -> 907.8075 | I30: =H30*F30 -> 1815.615
E31: =VLOOKUP($D30,PRECIOS_REFERENCIAS!A$3:D$99,3,FALSE) -> SIMATIC S7-1500, Módulo de Entradas analógicas AI 8 X U/R/RTD/TC HF // 6ES7531-7PF00-0AB0
A32: 01.01.14 | B32: INST. | C32: INST | D32: INST_EA | E32: =VLOOKUP($D32,PRECIOS_REFERENCIAS!A$3:D$99,2,FALSE) -> INSTALACION EA | F32: =F30 -> 2 | G32: UD. | H32: =VLOOKUP($D32,PRECIOS_REFERENCIAS!A$3:D$100,4,FALSE) -> 237.18352 | I32: =H32*F32 -> 474.36703
E33: =VLOOKUP($D32,PRECIOS_REFERENCIAS!A$3:D$99,3,FALSE) -> SUSTITUCIÓN DE MÓDULO DE E/S ANALÓGICAS DE PLC EXISTENTE POR NUEVO MÓDULO DE PLC DEFINIDO. ENTRADA ANALÓGICAS 8
A34: 01.01.15 | B34: INST. | C34: HARDWARE | D34: ENC_FRONTAL | E34: =VLOOKUP($D34,PRECIOS_REFERENCIAS!A$3:D$99,2,FALSE) -> SUMINISTRO ENCHUFE FRONTAL | F34: =F30 -> 2 | G34: UD. | H34: =VLOOKUP($D34,PRECIOS_REFERENCIAS!A$3:D$100,4,FALSE) -> 34.9875 | I34: =H34*F34 -> 69.975
E35: =VLOOKUP($D34,PRECIOS_REFERENCIAS!A$3:D$99,3,FALSE) -> Enchufe frontal Push-in (mód. de 35mm) // 6ES7592-1BM00-0XB0
A36: 01.01.16 | B36: SA1500 | C36: HARDWARE | D36: SA1500 | E36: =VLOOKUP($D36,PRECIOS_REFERENCIAS!A$3:D$99,2,FALSE) -> SUMINISTRO MÓDULO DE 4 SALIDAS ANALÓGICAS | F36: 1 | G36: UD. | H36: =VLOOKUP($D36,PRECIOS_REFERENCIAS!A$3:D$100,4,FALSE) -> 693.2175 | I36: =H36*F36 -> 693.2175
E37: =VLOOKUP($D36,PRECIOS_REFERENCIAS!A$3:D$99,3,FALSE) -> SIMATIC S7-1500, Módulo de Salidas analógicas AQ 4xU/I HF// 6ES7532-5ND00-0AB0
A38: 01.01.17 | B38: INST. | C38: INST | D38: INST_SA | E38: =VLOOKUP($D38,PRECIOS_REFERENCIAS!A$3:D$99,2,FALSE) -> INSTALACION SA | F38: =F36 -> 1 | G38: UD. | H38: =VLOOKUP($D38,PRECIOS_REFERENCIAS!A$3:D$100,4,FALSE) -> 160 | I38: =H38*F38 -> 160
E39: =VLOOKUP($D38,PRECIOS_REFERENCIAS!A$3:D$99,3,FALSE) -> SUSTITUCIÓN DE MÓDULO DE E/S ANALÓGICAS DE PLC EXISTENTE POR NUEVO MÓDULO DE PLC DEFINIDO. SALIDAS ANALÓGICAS 2
A40: 01.01.18 | B40: INST. | C40: HARDWARE | D40: ENC_FRONTAL | E40: =VLOOKUP($D40,PRECIOS_REFERENCIAS!A$3:D$99,2,FALSE) -> SUMINISTRO ENCHUFE FRONTAL | F40: =F36 -> 1 | G40: UD. | H40: =VLOOKUP($D40,PRECIOS_REFERENCIAS!A$3:D$100,4,FALSE) -> 34.9875 | I40: =H40*F40 -> 34.9875
E41: =VLOOKUP($D40,PRECIOS_REFERENCIAS!A$3:D$99,3,FALSE) -> Enchufe frontal Push-in (mód. de 35mm) // 6ES7592-1BM00-0XB0
A42: 01.01.19 | B42: HMI7 | C42: HARDWARE | D42: HMI7 | E42: =VLOOKUP($D42,PRECIOS_REFERENCIAS!A$3:D$90,2,FALSE) -> HMI LOCAL 7" ETHERNET Y COLOR | F42: 1 | G42: UD. | H42: =VLOOKUP($D42,PRECIOS_REFERENCIAS!A$3:D$90,4,FALSE) -> 612.79 | I42: =H42*F42 -> 612.79
E43: =VLOOKUP($D42,PRECIOS_REFERENCIAS!A$3:D$90,3,FALSE) -> SIMATIC HMI, KTP700 Basic, Basic Panel, Manejo con teclado/táctil, pantalla TFT de 7", 65536 colores // 6ES7531-7NF00-0AB0
A44: 01.01.20 | B44: INST. | C44: INST | D44: INST_HMI | E44: =VLOOKUP($D44,PRECIOS_REFERENCIAS!A$3:D$90,2,FALSE) -> INSTALACION HMI | F44: =F42 -> 1 | G44: UD. | H44: =VLOOKUP($D44,PRECIOS_REFERENCIAS!A$3:D$90,4,FALSE) -> 125 | I44: =H44*F44 -> 125
E45: =VLOOKUP($D44,PRECIOS_REFERENCIAS!A$3:D$90,3,FALSE) -> INSTALACIÓN DE PANTALLA HMI
A46: 01.01.21 | B46: XSLAN1400 | C46: HARDWARE | D46: XSLAN-1400 | E46: =VLOOKUP($D46,PRECIOS_REFERENCIAS!A$3:D$90,2,FALSE) -> SWITCH SHDSL 1 PUERTO | F46: 1 | G46: UD. | H46: =VLOOKUP($D46,PRECIOS_REFERENCIAS!A$3:D$90,4,FALSE) -> 828 | I46: =H46*F46 -> 828
E47: =VLOOKUP($D46,PRECIOS_REFERENCIAS!A$3:D$90,3,FALSE) -> SWITCH XSLAN+1400 O SIMILAR
A48: 01.01.22 | B48: INST. | C48: INST | D48: INST_SHDSL | E48: =VLOOKUP($D48,PRECIOS_REFERENCIAS!A$3:D$90,2,FALSE) -> INSTALACION SWITCH SHDSL | F48: =F46 -> 1 | G48: UD. | H48: =VLOOKUP($D48,PRECIOS_REFERENCIAS!A$3:D$90,4,FALSE) -> 40 | I48: =H48*F48 -> 40
E49: =VLOOKUP($D48,PRECIOS_REFERENCIAS!A$3:D$90,3,FALSE) -> INSTALACIÓN DE ROUTER
A50: 01.01.23 | B50: DESCARGADOR | C50: HARDWARE | D50: DESCARGADOR | E50: =VLOOKUP($D50,PRECIOS_REFERENCIAS!A$3:D$90,2,FALSE) -> DESCARGADOR DE SOBRETENSIONES LÍNEA SHDSL | F50: 1 | G50: UD. | H50: =VLOOKUP($D50,PRECIOS_REFERENCIAS!A$3:D$90,4,FALSE) -> 187 | I50: =H50*F50 -> 187
E51: =VLOOKUP($D50,PRECIOS_REFERENCIAS!A$3:D$90,3,FALSE) -> Equipo DT-TELE-SHDSL de Phoenix Contact con 2 puertos para conexión SHDSL
A52: 01.01.24 | B52: INST. | C52: INST | D52: INST_DESCARGADOR | E52: =VLOOKUP($D52,PRECIOS_REFERENCIAS!A$3:D$90,2,FALSE) -> INSTALACION DESCARGADOR | F52: =F50 -> 1 | G52: UD. | H52: =VLOOKUP($D52,PRECIOS_REFERENCIAS!A$3:D$90,4,FALSE) -> 64.403155 | I52: =H52*F52 -> 64.403155
E53: =VLOOKUP($D52,PRECIOS_REFERENCIAS!A$3:D$90,3,FALSE) -> INSTALACIÓN DE PROTECCIÓN CONTRA SOBRETENSIONES
A54: 01.01.25 | B54: IPL | C54: HARDWARE | D54: IPL | E54: =VLOOKUP($D54,PRECIOS_REFERENCIAS!A$3:D$90,2,FALSE) -> ROUTER VPN 4G | F54: 1 | G54: UD. | H54: =VLOOKUP($D54,PRECIOS_REFERENCIAS!A$3:D$90,4,FALSE) -> 560.25 | I54: =H54*F54 -> 560.25
E55: =VLOOKUP($D54,PRECIOS_REFERENCIAS!A$3:D$90,3,FALSE) -> ROUTER IPL-C-100-LW O SIMILAR
A56: 01.01.26 | B56: INST. | C56: INST | D56: INST_IPL | E56: =VLOOKUP($D56,PRECIOS_REFERENCIAS!A$3:D$90,2,FALSE) -> INSTALACION ROUTER 4G | F56: =F54 -> 1 | G56: UD. | H56: =VLOOKUP($D56,PRECIOS_REFERENCIAS!A$3:D$90,4,FALSE) -> 40 | I56: =H56*F56 -> 40
E57: =VLOOKUP($D56,PRECIOS_REFERENCIAS!A$3:D$90,3,FALSE) -> INSTALACIÓN DE ROUTER 4G
A58: 01.01.27 | B58: A310 | C58: HARDWARE | D58: A310 | E58: =VLOOKUP($D58,PRECIOS_REFERENCIAS!A$3:D$90,2,FALSE) -> ANTENA 4G CON CABLE DE 5 METROS Y KIT MONTAJE ANTENA | F58: 1 | G58: UD. | H58: =VLOOKUP($D58,PRECIOS_REFERENCIAS!A$3:D$90,4,FALSE) -> 152.67857 | I58: =H58*F58 -> 152.67857
E59: =VLOOKUP($D58,PRECIOS_REFERENCIAS!A$3:D$90,3,FALSE) -> ANTENA 310 + KIT MONTAJE ANTENA 310
A60: 01.01.28 | B60: INST. | C60: INST | D60: INST_ANTENA | E60: =VLOOKUP($D60,PRECIOS_REFERENCIAS!A$3:D$90,2,FALSE) -> INSTALACION ANTENA EXTERIOR | F60: =F58 -> 1 | G60: UD. | H60: =VLOOKUP($D60,PRECIOS_REFERENCIAS!A$3:D$90,4,FALSE) -> 149.03087 | I60: =H60*F60 -> 149.03087
E61: =VLOOKUP($D60,PRECIOS_REFERENCIAS!A$3:D$90,3,FALSE) -> INSTALACIÓN DE ANTENA EXTERIOR + KIT
A62: 01.01.29 | B62: SWITCH | C62: HARDWARE | D62: SWITCH | E62: =VLOOKUP($D62,PRECIOS_REFERENCIAS!A$3:D$90,2,FALSE) -> SUMINISTRO SWITCH 5P | F62: 1 | G62: UD. | H62: =VLOOKUP($D62,PRECIOS_REFERENCIAS!A$3:D$90,4,FALSE) -> 97.65 | I62: =H62*F62 -> 97.65
E63: =VLOOKUP($D62,PRECIOS_REFERENCIAS!A$3:D$90,3,FALSE) -> SwitchNOGest_5x100TXRJ45 / MCSESU053FN0
A64: 01.01.30 | B64: INST. | C64: INST | D64: INST_SWITCH | E64: =VLOOKUP($D64,PRECIOS_REFERENCIAS!A$3:D$90,2,FALSE) -> INSTALACION SWITCH | F64: =F62 -> 1 | G64: UD. | H64: =VLOOKUP($D64,PRECIOS_REFERENCIAS!A$3:D$90,4,FALSE) -> 40 | I64: =H64*F64 -> 40
E65: =VLOOKUP($D64,PRECIOS_REFERENCIAS!A$3:D$90,3,FALSE) -> INSTALACIÓN DE SWITCH
A66: 01.01.31 | B66: PLANIFICACION | C66: ING | D66: PLANIFICAC | E66: =VLOOKUP($D66,PRECIOS_REFERENCIAS!A$3:D$90,2,FALSE) -> PLANIFICACION | F66: =F60 -> 1 | G66: UD. | H66: =VLOOKUP($D66,PRECIOS_REFERENCIAS!A$3:D$90,4,FALSE) -> 40 | I66: =H66*F66 -> 40
E67: =VLOOKUP($D66,PRECIOS_REFERENCIAS!A$3:D$90,3,FALSE) -> PLANIFICACIÓN DE LOS TRABAJOS Y DESCARGA EN LOCAL DEL PROGRAMA DEL PLC
A68: 01.01.32 | B68: ING+ESQUEMAS | C68: ING | D68: ING | E68: =VLOOKUP($D68,PRECIOS_REFERENCIAS!A$3:D$90,2,FALSE) -> INGENIERIA + ESQUEMAS | F68: =F66 -> 1 | G68: UD. | H68: =VLOOKUP($D68,PRECIOS_REFERENCIAS!A$3:D$90,4,FALSE) -> 300 | I68: =H68*F68 -> 300
E69: =VLOOKUP($D68,PRECIOS_REFERENCIAS!A$3:D$90,3,FALSE) -> INGENIERÍA DE ACTUALIZACIÓN DE ESQUEMAS ELÉCTRICOS. INCLUYE LA REVISIÓN LOCAL DE LOS CUADROS Y ELEMENTOS DE CONTROL, ASÍ COMO LA COMPROBACIÓN DE LAS SEÑALES DE CONTROL.
A70: 01.01.33 | B70: REV PROGRAMACIION PLC | C70: ING | D70: REV_PROG | E70: =VLOOKUP($D70,PRECIOS_REFERENCIAS!A$3:D$90,2,FALSE) -> REVISION PROGRAMA PLC | F70: =F68 -> 1 | G70: UD. | H70: =VLOOKUP($D70,PRECIOS_REFERENCIAS!A$3:D$90,4,FALSE) -> 60 | I70: =H70*F70 -> 60
E71: =VLOOKUP($D70,PRECIOS_REFERENCIAS!A$3:D$90,3,FALSE) -> REVISIÓN DEL PROGRAMA DE CONTROL Y DEFINICIÓN DE LA FUNCIONALIDAD DEL MISMO, DE ACUERDO A LA DIRECCIÓN CAG
A72: 01.01.34 | B72: PROGRAMA_PLC | C72: ING | D72: PROG_PLC | E72: =VLOOKUP($D72,PRECIOS_REFERENCIAS!A$3:D$90,2,FALSE) -> PROGRAMA PLC NUEVO | F72: =F70 -> 1 | G72: UD. | H72: =VLOOKUP($D72,PRECIOS_REFERENCIAS!A$3:D$90,4,FALSE) -> 407.75661 | I72: =H72*F72 -> 407.75661
E73: =VLOOKUP($D72,PRECIOS_REFERENCIAS!A$3:D$90,3,FALSE) -> MIGRACION DEL PROGRAMA ACTUAL A LA NUEVA PLATAFORMA DE PROGRAMACION
A74: 01.01.35 | B74: PROGRAMA HMI | C74: ING | D74: PROG_HMI | E74: =VLOOKUP($D74,PRECIOS_REFERENCIAS!A$3:D$90,2,FALSE) -> PROGRAMA HMI | F74: =F70 -> 1 | G74: UD. | H74: =VLOOKUP($D74,PRECIOS_REFERENCIAS!A$3:D$90,4,FALSE) -> 340 | I74: =H74*F74 -> 340
E75: =VLOOKUP($D74,PRECIOS_REFERENCIAS!A$3:D$90,3,FALSE) -> PROGRAMACION DE LA NUEVA PANTALLA HMI
A76: 01.01.36 | B76: PME REM | C76: ING | D76: PME_REM | E76: =VLOOKUP($D76,PRECIOS_REFERENCIAS!A$3:D$90,2,FALSE) -> PEM REMOTA | F76: =F72 -> 1 | G76: UD. | H76: =VLOOKUP($D76,PRECIOS_REFERENCIAS!A$3:D$90,4,FALSE) -> 851.7 | I76: =H76*F76 -> 851.7
E77: =VLOOKUP($D76,PRECIOS_REFERENCIAS!A$3:D$90,3,FALSE) -> PUESTA EN MARCHA DEL PROGRAMA DE CONTROL LOCAL
A78: 01.01.37 | B78: SCADA | C78: ING | D78: SCADA_REM | E78: =VLOOKUP($D78,PRECIOS_REFERENCIAS!A$3:D$90,2,FALSE) -> REVISION SCADA | F78: =F76 -> 1 | G78: UD. | H78: =VLOOKUP($D78,PRECIOS_REFERENCIAS!A$3:D$90,4,FALSE) -> 60 | I78: =H78*F78 -> 60
E79: =VLOOKUP($D78,PRECIOS_REFERENCIAS!A$3:D$90,3,FALSE) -> REVISIÓN DEL PROGRAMA DE SUPERVISIÓN SCADA
C80: HARDWARE | E80: =CONCATENATE(E5," - TOTAL HARDWARE") -> ER1 PRESA - TOTAL HARDWARE | I80: =SUM(I6+I10+I12+I16+I18+I22+I24+I28+I30+I34+I36+I40+I42+I46+I50+I54+I58+I62) -> 9907.3861
C81: INST | E81: =CONCATENATE(E5," - TOTAL INSTALACION") -> ER1 PRESA - TOTAL INSTALACION | I81: =I8+I14+I20+I26+I32+I38+I44+I48+I52+I56+I60+I64 -> 1901.7207
C82: ING | E82: =CONCATENATE(E5," - TOTAL INGENIERIA") -> ER1 PRESA - TOTAL INGENIERIA | I82: =I66+I68+I70+I72+I74+I76+I78 -> 2059.4566 | J82: =SUM(I80:I82) -> 13868.563
E83: =CONCATENATE("TOTAL ",A5) -> TOTAL SUBCAPÍTULO 01.01 | I83: =SUM(I6:I79) -> 13868.563
A84: SUBCAPÍTULO 01.02 | E84: CAMARA DE LLAVES (PRESA) | I84: =I118 -> 3819.5944
A85: 01.02.01 | B85: CARRIL | C85: HARDWARE | D85: CARRIL | E85: =VLOOKUP($D85,PRECIOS_REFERENCIAS!A$3:D$90,2,FALSE) -> CARRIL DIN | F85: 1 | G85: UD. | H85: =VLOOKUP($D85,PRECIOS_REFERENCIAS!A$3:D$90,4,FALSE) -> 2.6481182 | I85: =H85*F85 -> 2.6481182
E86: =VLOOKUP($D85,PRECIOS_REFERENCIAS!A$3:D$90,3,FALSE) -> CARRIL DIN PARA REMOTA S7-1200
A87: 01.02.02 | B87: INST. | C87: INST | D87: INST_CARRIL | E87: =VLOOKUP($D87,PRECIOS_REFERENCIAS!A$3:D$90,2,FALSE) -> INSTALACION CARRIL DIN | F87: 1 | G87: UD. | H87: =VLOOKUP($D87,PRECIOS_REFERENCIAS!A$3:D$90,4,FALSE) -> 35.402253 | I87: =H87*F87 -> 35.402253
E88: =VLOOKUP($D87,PRECIOS_REFERENCIAS!A$3:D$90,3,FALSE) -> SUSTITUCIÓN DE PERFIL SOPORTE DE PLC EXISTENTE POR NUEVO PERFIL DE PLC DEFINIDO, DENTRO DEL ARMARIO ELÉCTRICO ACTUAL.
A89: 01.02.03 | B89: CPU | C89: HARDWARE | D89: ET200 | E89: =VLOOKUP($D89,PRECIOS_REFERENCIAS!A$3:D$48,2,FALSE) -> SUMINISTRO DE ET200MP | F89: 1 | G89: UD. | H89: =VLOOKUP($D89,PRECIOS_REFERENCIAS!A$3:D$48,4,FALSE) -> 416.925 | I89: =H89*F89 -> 416.925
E90: =VLOOKUP($D89,PRECIOS_REFERENCIAS!A$3:D$48,3,FALSE) -> SIMATIC ET 200MP, IM 155-5 PN ST // 6ES7155-5AA01-0AB0
A91: 01.02.04 | B91: INST. | C91: INST | D91: INST_CPU | E91: =VLOOKUP($D91,PRECIOS_REFERENCIAS!A$3:D$90,2,FALSE) -> INSTALACION CPU | F91: 1 | G91: UD. | H91: =VLOOKUP($D91,PRECIOS_REFERENCIAS!A$3:D$90,4,FALSE) -> 123.90076 | I91: =H91*F91 -> 123.90076
E92: =VLOOKUP($D91,PRECIOS_REFERENCIAS!A$3:D$90,3,FALSE) -> SUSTITUCIÓN DE CPU DE PLC EXISTENTE POR NUEVA CPU DE PLC DEFINIDA
A93: 01.02.05 | B93: ED | C93: HARDWARE | D93: ET200_ED | E93: =VLOOKUP($D93,PRECIOS_REFERENCIAS!A$3:D$48,2,FALSE) -> SUMINISTRO MÓDULO DE 32 ENTRADAS DIGITALES | F93: 1 | G93: UD. | H93: =VLOOKUP($D93,PRECIOS_REFERENCIAS!A$3:D$48,4,FALSE) -> 308.82 | I93: =H93*F93 -> 308.82
E94: =VLOOKUP($D93,PRECIOS_REFERENCIAS!A$3:D$48,3,FALSE) -> S7-1500, DI 32x24VDC HF// 6ES7521-1BL00-0AB0
A95: 01.02.06 | B95: ED | C95: HARDWARE | D95: ET200_BASE | E95: =VLOOKUP($D95,PRECIOS_REFERENCIAS!A$3:D$48,2,FALSE) -> SUMINISTRO ENCHUFE FRONTAL | F95: =F93 -> 1 | G95: UD. | H95: =VLOOKUP($D95,PRECIOS_REFERENCIAS!A$3:D$48,4,FALSE) -> 34.9875 | I95: =H95*F95 -> 34.9875
E96: =VLOOKUP($D95,PRECIOS_REFERENCIAS!A$3:D$48,3,FALSE) -> Enchufe frontal Push-in (mód. de 35mm) // 6ES7592-1BM00-0XB0
A97: 01.02.07 | B97: INST. | C97: INST | D97: INST_ED | E97: =VLOOKUP($D97,PRECIOS_REFERENCIAS!A$3:D$90,2,FALSE) -> INSTALACION ED | F97: =F95 -> 1 | G97: UD. | H97: =VLOOKUP($D97,PRECIOS_REFERENCIAS!A$3:D$90,4,FALSE) -> 161.9731 | I97: =H97*F97 -> 161.9731
E98: =VLOOKUP($D97,PRECIOS_REFERENCIAS!A$3:D$90,3,FALSE) -> SUSTITUCIÓN DE MÓDULO DE E/S DIGITALES DE PLC EXISTENTE POR NUEVO MÓDULO DE PLC DEFINIDO. ENTRADA DIGITAL 16
A99: 01.02.08 | B99: EA | C99: HARDWARE | D99: ET200_EA | E99: =VLOOKUP($D99,PRECIOS_REFERENCIAS!A$3:D$48,2,FALSE) -> SUMINISTRO MÓDULO DE 8 ENTRADAS ANALÓGICAS | F99: 1 | G99: UD. | H99: =VLOOKUP($D99,PRECIOS_REFERENCIAS!A$3:D$48,4,FALSE) -> 803.31 | I99: =H99*F99 -> 803.31
E100: =VLOOKUP($D99,PRECIOS_REFERENCIAS!A$3:D$48,3,FALSE) -> SIMATIC S7-1500, módulo de entradas analógicas AI 8xU/I HF //6ES7531-7PF00-0AB0
...

Sheet PRECIOS_REFERENCIAS
B1: HARDWARE
B2: DESCRIPCION | C2: REFERENCIA | D2: Presupuesto unitario
A3: CPU | B3: SUMINISTRO DE CPU REMOTAS | C3: SIMATIC S7-1200 - CPU 1214C //6ES7214-1AG40-0XB0 | D3: 416.2875
A4: FA | B4: SUMINISTRO DE FUENTE ALIMENTACIÓN CPU REMOTAS | C4: SITOP PSU6200 24 V/10 A // 6EP3334-7SB00-3AX0 | D4: 180.015
A5: MC1200 | B5: TARJETA DE MEMORIA S7-1200 | C5: SIMATIC S7 Memory Card, 24 MB //6ES7954-8LF03-0AA0 | D5: 263.1375
A6: ED | B6: SUMINISTRO MÓDULO DE 16 ENTRADAS DIGITALES | C6: SIMATIC S7-1200, Módulo SM1221 //6ES7221-1BH32-0XB0 | D6: 177.5475
A7: SD | B7: SUMINISTRO MÓDULO DE 16 SALIDAS DIGITALES | C7: SIMATIC S7-1200, Módulo SM1222 //6ES7222-1BH32-0XB0 | D7: 177.5475
A8: EA | B8: SUMINISTRO MÓDULO DE 8 ENTRADAS ANALÓGICAS | C8: SIMATIC S7-1200, Módulo de Entradas analógicas, SM 1231, 8 EA //6ES7231-4HF32-0XB0 | D8: 372.3975
A9: SA | B9: SUMINISTRO MÓDULO DE 2 SALIDAS ANALÓGICAS | C9: SIMATIC S7-1200, Módulo de Salidas analógicas, SM 1232, 2 AO //6ES7232-4HB32-0XB0 | D9: 243.105
A10: TCOM1200 | B10: TARJETA COMUNICACIONES S7-1200 | C10: SIMATIC S7-1200 Modulo Ethernet CP 1243-1 //6GK7243-1BX30-0XE0 | D10: 518.67
A11: TCRTU_Cau | B11: TARJETA COMUNICACIÓN MODBUS CAUDALIMETRO | C11: TARJETA MODBUS RTU/RS485 para caudalímetro MAG 6000 // FDK:085U0234 | D11: 183.4875
A12: TCRTU | B12: TARJETA COMUNICACIÓN RS485 S7-1200 | C12: Modul de comunic. CM 1241, RS422/485 //6ES7241-1CH32-0XB0 | D12: 130.2
A13: ET200 | B13: SUMINISTRO DE ET200MP | C13: SIMATIC ET 200MP, IM 155-5 PN ST // 6ES7155-5AA01-0AB0 | D13: 416.925
A14: ET200_ED | B14: SUMINISTRO MÓDULO DE 32 ENTRADAS DIGITALES | C14: S7-1500, DI 32x24VDC HF// 6ES7521-1BL00-0AB0 | D14: 308.82
... A63: INST_IPL | B63: INSTALACION ROUTER 4G | C63: INSTALACIÓN DE ROUTER 4G | D63: 40
A64: INST_ANTENA | B64: INSTALACION ANTENA EXTERIOR | C64: INSTALACIÓN DE ANTENA EXTERIOR + KIT | D64: =298.061735443821*0.5 -> 149.03087
A65: INST_TRANS | B65: INSTALACION TRANSCEIVER | C65: INSTALACIÓN DE TRANSCEIVER ETHERNET - FIBRA OPTICA | D65: 97.523187
A66: INST_FO_PRESA | B66: INSTALACION FO PRESA | C66: INSTALACIÓN TIRADA DE CABLE FIBRA OPTICA EN LA PRESA | D66: 3
A67: PLANIFICAC | B67: PLANIFICACION | C67: PLANIFICACIÓN DE LOS TRABAJOS Y DESCARGA EN LOCAL DEL PROGRAMA DEL PLC | D67: 40
A68: ING | B68: INGENIERIA + ESQUEMAS | C68: INGENIERÍA DE ACTUALIZACIÓN DE ESQUEMAS ELÉCTRICOS. INCLUYE LA REVISIÓN LOCAL DE LOS CUADROS Y ELEMENTOS DE CONTROL, ASÍ COMO LA COMPROBACIÓN DE LAS SEÑALES DE CONTROL. | D68: 300
A69: REV_PROG | B69: REVISION PROGRAMA PLC | C69: REVISIÓN DEL PROGRAMA DE CONTROL Y DEFINICIÓN DE LA FUNCIONALIDAD DEL MISMO, DE ACUERDO A LA DIRECCIÓN CAG | D69: 60
A70: PROG_PLC | B70: PROGRAMA PLC NUEVO | C70: MIGRACION DEL PROGRAMA ACTUAL A LA NUEVA PLATAFORMA DE PROGRAMACION | D70: 407.75661
A71: PROG_HMI | B71: PROGRAMA HMI | C71: PROGRAMACION DE LA NUEVA PANTALLA HMI | D71: 340
A72: PME_REM | B72: PEM REMOTA | C72: PUESTA EN MARCHA DEL PROGRAMA DE CONTROL LOCAL | D72: 851.7
A73: SCADA_REM | B73: REVISION SCADA | C73: REVISIÓN DEL PROGRAMA DE SUPERVISIÓN SCADA | D73: 60
A74: PLANIFICAC_S1500 | B74: PLANIFICACION | C74: PLANIFICACIÓN DE LOS TRABAJOS Y DESCARGA EN LOCAL DEL PROGRAMA DEL PLC | D74: 300
A75: ING_ETAP | B75: INGENIERIA + ESQUEMAS | C75: INGENIERÍA DE ACTUALIZACIÓN DE ESQUEMAS ELÉCTRICOS. INCLUYE LA REVISIÓN LOCAL DE LOS CUADROS Y ELEMENTOS DE CONTROL, ASÍ COMO LA COMPROBACIÓN DE LAS SEÑALES DE CONTROL. | D75: 1000
A76: PROG_PLC_FE | B76: PROGRAMA PLC FE | C76: CONFIGURACIÓN, PARAMETRIZACIÓN Y PUESTA EN MARCHA DE COMUNICACIONES ENTRE EL FRONT END DEL PUESTO DE CONTROL CENTRAL (PCC) Y EL PLC, INCLUYENDO PRUEBAS EN TALLER Y EMPLAZAMIENTO | D76: =E76*F76 -> 3200 | E76: 200 | F76: 16
A77: PROG_FE_RED_1 | B77: PROGRAMA REMOTAS REDUNDANCIA COM FIBRA OPTICA | C77: PROGRAMACION DE LAS REMOTAS FIBRA CON REDUNDACIA DE COMUNICACIONES EN EL FRONT END DE COMUNICACIONES | D77: =E77*F77 -> 300 | E77: 100 | F77: 3
A78: PROG_FE_RED_2 | B78: PROGRAMA REMOTAS REDUNDANCIA COM SHDSL | C78: PROGRAMACION DE LAS REMOTAS SHDSL CON REDUNDACIA DE COMUNICACIONES EN EL FRONT END DE COMUNICACIONES | D78: =E78*F78 -> 400 | E78: 100 | F78: 4
A79: PROG_MOD | B79: PRGRAMA MODBUS REMOTA 1200 | C79: PROGRAMACION COMUNICACIÓN MODBUS CON OS CAUDALIMETROS | D79: 50
A80: PME_FE | B80: PEM REMOTA | C80: PUESTA EN MARCHA DE LA REMOTA COMPROBACION CORRECTA COMUNICACIÓN CON EL FRONT END Y EL SCADA | D80: =E80*F80 -> 1920 | E80: 120 | F80: 16
A81: PROG_PLC_CONTROL | B81: PROGRAMA PLC CONTROL ETAP | C81: MIGRACION DEL PROGRAMA ACTUAL A LA NUEVA PLATAFORMA DE PROGRAMACION | D81: 1000
A82: PME_ETAP | B82: PEM ETAP | C82: PUESTA EN MARCHA DE LA ETAP COMPROBACION CORRECTA FUNCIONAMIENTO DE LA ETAP | D82: 400 | E82: 120 | F82: 16
A83: SCADA_ETAP | B83: REVISION SCADA TRAS MIGRACION | C83: REVISIÓN DEL PROGRAMA DE SUPERVISIÓN SCADA DE LA ETAP TRAS LA MIGRACION DEL PLC | D83: 400
A84: ESTUDIO_CABLE | B84: ESTUDIO Y ADECUACIÓN DE LOS CABLES DE COMUNICACIONES | C84: ANÁLISIS GENERAL DE LA SOLUCIÓN DE COMUNICACIONES LÍNEA DE DEDICADA Y PROPUESTA DE SOLUCIÓN DEFINITIVA. ANÁLISIS DE CARACTERÍSTICAS DEL CABLE SEGÚN PPT DE LOS 13 SEGMENTOS DE TELEMANDO | D84: =(990+5350*(13/28))*1.15 -> 3995.0179
A85: PROG_SHDSL | B85: CONFIGURACIÓN & PRUEBAS OFFLINE SWITCHES SHDSL | C85: PROGRAMACIÓN DE LOS ROUTERS SHDSL EN FUNCIÓN DEL RESULTADO DEL ANALISIS DEL CABLE DE COMUNICACIONES | D85: =E85*F85+100 -> 1020 | E85: 57.5 | F85: 16
A86: PROG_RSTP | B86: CONFIGURACIÓN & PRUEBAS OFFLINE ROUTERS 4G RSTP | C86: PROGRAMACIÓN DE LOS ROUTERS 4G PARA LOS EQUIPOS DEL ANILLOS RSTP | D86: =E86*F86+90 -> 205 | E86: 57.5 | F86: 2
A87: PROG_R_FO | B87: CONFIGURACIÓN & PRUEBAS OFFLINE ROUTERS 4G REDUNDANCIA F.O | C87: PROGRAMACIÓN DE LOS ROUTERS 4G PARA LAS REMOTAS CON FIBRA OPTICA CON FUNCION REDUNDANCIA DE COMUNICACIONES | D87: =E87*F87+90 -> 262.5 | E87: 57.5 | F87: 3
A88: PROG_R_SHDSL | B88: CONFIGURACIÓN & PRUEBAS OFFLINE ROUTERS 4G REDUNDANCIA SHDSL | C88: PROGRAMACIÓN DE LOS ROUTERS 4G PARA LAS REMOTAS CON LINEA DEDICADA CON FUNCION REDUNDANCIA DE COMUNICACIONES | D88: =E88*F88+90 -> 320 | E88: 57.5 | F88: 4
A89: MONITOR_SINOPTICO | B89: Samsung monitor QM 75R | C89: Pantalla de 75" para sustitución sinoptico // Ref. LH75QMREBGCXGO de Samsung o similar | D89: =E89 -> 2433.3333 | E89: =2190/0.9 -> 2433.3333
A90: MONTAJE_SOP_MON | B90: PREPARAR ESTRUCTURA MONTAJE MONITOR | C90: Preparar estructura metalica, con perfiles de aluminio 4cm x 4cm, en la parte trasera de la pared para posterior sujeción y colocación del panel y monitor. | D90: =E90 -> 200 | E90: =360/(2*0.9) -> 200
A91: INST_MON | B91: INSTALACION Y COLOCACIÓN DE MONITOR | C91: Realizar un frente de DMH lacado en negro, pieza colocada semiempotrada en los paneles actuales para posterior colocación del monitor sobre el. 1 Pieza lateral de : 200cm x 100cm x 4cm | D91: =E91 -> 966.66667 | E91: =1740/(2*0.9) -> 966.66667
A92: AVEVA_EDGE_DES | B92: LINCENCIA DESARROLLO AVEVA EDGE 1.5K CON 1 THIN CLIENT | C92: LICENCIA DE DESARROLLO AVEVA EDGE // Ref. EDGED-01-N-23 "AVEVA Edge 2023 STUDIO DEV 1.5K tags, 1 TC" | D92: =E92 -> 1782.5 | E92: =1550*1.15 -> 1782.5
A93: AVEVA_EDGE_RUN | B93: LINCENCIA RUNTIME AVEVA EDGE 1.5K CON 1 THIN CLIENT | C93: LICENCIA RUNTIME AVEVA EDGE // Ref. EDGER-01-N-23 "AVEVA Edge 2023 SCADA RT 1.5K tags, 1 TC" | D93: =E93 -> 2971.6 | E93: =2584*1.15 -> 2971.6
A94: NOM_HIST_AUTO | B94: GENERACIÓN AUTOMÁTICA DE NOMBRES EN SQL | C94: INGENIERÍA, DESARROLLO, PRUEBAS Y DOCIMENTACIÓN DE SISTEMA AUTOMATICO DE CAMBIO DE NOMBRE DE VARIABLES PARA ANALÍTICA | D94: =E94 -> 1800 | E94: =30*60 -> 1800
A95: DES_APP_AVEVA | B95: DESARROLLO DE APLICACIÓN AVEVA EDGE | C95: DESARROLLO DE LA APLICACIÓN DE AVEVA EDGE PARA LOS DOS SISTEMAS (ARRIARAN Y BARRENDIOLA) | D95: =E95 -> 3000 | E95: =50*60 -> 3000
A96: SQL_SRV_STANDARD | B96: LICENCIA DE SQL SERVER STANDARD a INSTALAR EN SERVIDOR CENTRAL | C96: MICROSOFT SQL SERVER 2022 STANDARD CON DOS LICENCIAS CAL | D96: =E96 -> 1073.8824 | E96: =(621+2*145.9)/0.85 -> 1073.8824
A97: PROG_VAR_OPCUA | B97: ACTIVACIÓN DE LAS VARIABLES EN OPC UA PLC | C97: ACTIVACIÓN DE LAS VARIABLES DEL PROYECTO EN EL SERVIDOR OPC UA DEL PROYECTO. CADA UNIDAD SON HASTA 200 VARIABLES | D97: =E97 -> 90 | E97: =1.5*60 -> 90
A98: INST_LOCAL_UA | B98: INSTALACIÓN DE AVEVA EDGE & SQL SERVER EXPRESS & APLICACIÓN AVEVA EGDE | C98: INSTALACIÓN DE LOS SOFTWARES EN LOCAL (AVEVA EDGE Y SQL SERVER EXPRESS), CARGA DE LA APLICACIÓN AVEVA EDGE Y COMPROBACIÓN CONEXIÓN CORRECTA CONECTOR BBDD | D98: =E98 -> 120 | E98: =2*60 -> 120
A99: PEM_LOCAL_UA | B99: PEM SOLUCIÓN BBDD LOCAL | C99: PUESTA EN MARCHA DE LA SOLUCIÓN DESARROLLADA CON LA CORRECTA GRABACIÓN DATOS EN LOCAL Y GENERACIÓN AUTOMÁTICA NOMBRES SQL | D99: =E99 -> 300 | E99: =5*60 -> 300
A100: PROG_SQL | B100: PROGRAMACIÓN DE LAS PETICIONES SQL EN BBDD GLOBAL | C100: PROGRACIÓN DE LAS PETICIONES A REALIZAR DESDE LA BBDD GLOBAL A LAS 2 BBDD LOCALES PARA LA RECOGIDA DE DATOS DIARIOS. CONTEMPLANDO EL PROCESO AUTOMÁTICO DE CAMBIO DE NOMBRES | D100: =E100 -> 1920 | E100: =32*60 -> 1920
A101: PEM_GLOBAL_SQL | B101: PEM SOLUCIÓN BBDD LOCAL | C101: PUESTA EN MARCHA DE LA SOLUCIÓN DESARROLLADA CON LA CORRECTA GRABACIÓN DATOS EN GLOBAL DE LOS 2 SISTEMAS Y GENERACIÓN AUTOMÁTICA NOMBRES SQL | D101: =E101 -> 720 | E101: =12*60 -> 720
A102: INST_GLOBAL | B102: INSTALACIÓN DE SQL SERVER STANDARD CON USUARIOS, CAL | C102: INSTALACIÓN DE SOFTWARE SQL SERVER STANDARD, CONFIGURACIÓN DE LOS USUARIOS DE ACCESO, LICENCIAS CAL Y CONECTORES CON BBDD LOCALES | D102: =E102 -> 180 | E102: =3*60 -> 180
