Workbook

Sheet PRESUPUESTO
A1: PROYECTO DIGITALIZACIÓN ABASTECIMIENTO BARRENDIOLA & ARRIARAN & LAREO
A2: Presupuesto
A3: Código | B3: Codigo | C3: TRABAJO | E3: Resumen | F3: Cantidad | H3: Presupuesto unitario | I3: Importe Presupuesto
A4: CAP.01 | E4: SUMINISTRO DE MATERIAL SOLUCIÓN DE CONTROL PARA ESTACIONES REMOTAS BARRENDIOLA | I4: =I1139 -> 135179.07
A5: SUBCAPÍTULO 01.01 | E5: ER1 PRESA | I5: =I83 -> 13868.563
A6: 01.01.01 | B6: CARRIL | C6: HARDWARE | D6: PERFIL_M | E6: =VLOOKUP($D6,PRECIOS_REFERENCIAS!A$3:D$98,2,FALSE) -> PERFIL 1500 480 mm | F6: 1 | G6: UD. | H6: =VLOOKUP($D6,PRECIOS_REFERENCIAS!A$3:D$90,4,FALSE) -> 28.5525 | I6: =H6*F6 -> 28.5525
E7: =VLOOKUP($D6,PRECIOS_REFERENCIAS!A$3:D$98,3,FALSE) -> S7-1500 PERFIL 480 MM // 6ES7590-1AE80-0AA0
A8: 01.01.02 | B8: INST. | C8: INST | D8: INST_CARRIL | E8: =VLOOKUP($D8,PRECIOS_REFERENCIAS!A$3:D$98,2,FALSE) -> INSTALACION CARRIL DIN | F8: =F6 -> 1 | G8: UD. | H8: =VLOOKUP($D8,PRECIOS_REFERENCIAS!A$3:D$90,4,FALSE) -> 35.402253 | I8: =H8*F8 -> 35.402253
E9: =VLOOKUP($D8,PRECIOS_REFERENCIAS!A$3:D$98,3,FALSE) -> SUSTITUCIÓN DE PERFIL SOPORTE DE PLC EXISTENTE POR NUEVO PERFIL DE PLC DEFINIDO, DENTRO DEL ARMARIO ELÉCTRICO ACTUAL.
A10: 01.01.03 | B10: FA1500 | C10: HARDWARE | D10: FA1500 | E10: =VLOOKUP($D10,PRECIOS_REFERENCIAS!A$3:D$98,2,FALSE) -> SUMINISTRO DE FUENTE ALIMENTACIÓN CPU 1500 | F10: 1 | G10: UD. | H10: =VLOOKUP($D10,PRECIOS_REFERENCIAS!A$3:D$100,4,FALSE) -> 180.015 | I10: =H10*F10 -> 180.015
E11: =VLOOKUP($D10,PRECIOS_REFERENCIAS!A$3:D$98,3,FALSE) -> SITOP PSU6200 24 V/10 A //6EP3334-7SB00-3AX0
A12: 01.01.04 | B12: CPU1500 | C12: HARDWARE | D12: CPU1500 | E12: =VLOOKUP($D12,PRECIOS_REFERENCIAS!A$3:D$98,2,FALSE) -> SUMINISTRO DE CPU CONCENTRADOR | F12: 1 | G12: UD. | H12: =VLOOKUP($D12,PRECIOS_REFERENCIAS!A$3:D$100,4,FALSE) -> 2648.715 | I12: =H12*F12 -> 2648.715
E13: =VLOOKUP($D12,PRECIOS_REFERENCIAS!A$3:D$98,3,FALSE) -> CPU 1515-2 PN, 1MB Prog., 4,5MB Data // 6ES7515-2AN03-0AB0
A14: 01.01.05 | B14: INST. | C14: INST | D14: INST_CPU | E14: =VLOOKUP($D14,PRECIOS_REFERENCIAS!A$3:D$99,2,FALSE) -> INSTALACION CPU | F14: 1 | G14: UD. | H14: =VLOOKUP($D14,PRECIOS_REFERENCIAS!A$3:D$100,4,FALSE) -> 123.90076 | I14: =H14*F14 -> 123.90076
E15: =VLOOKUP($D14,PRECIOS_REFERENCIAS!A$3:D$99,3,FALSE) -> SUSTITUCIÓN DE CPU DE PLC EXISTENTE POR NUEVA CPU DE PLC DEFINIDA
A16: 01.01.06 | B16: MEMOALIM | C16: HARDWARE | D16: MEMOCARD | E16: =VLOOKUP($D16,PRECIOS_REFERENCIAS!A$3:D$98,2,FALSE) -> TARJETA DE MEMORIA S7-1500 | F16: 1 | G16: UD. | H16: =VLOOKUP($D16,PRECIOS_REFERENCIAS!A$3:D$100,4,FALSE) -> 361.47 | I16: =H16*F16 -> 361.47
E17: =VLOOKUP($D16,PRECIOS_REFERENCIAS!A$3:D$98,3,FALSE) -> SIMATIC S7 Memory Card, 256 MB //6ES7954-8LL04-0AA0
A18: 01.01.07 | B18: ED1500 | C18: HARDWARE | D18: ED1500 | E18: =VLOOKUP($D18,PRECIOS_REFERENCIAS!A$3:D$99,2,FALSE) -> SUMINISTRO MÓDULO DE 32 ENTRADAS DIGITALES | F18: 2 | G18: UD. | H18: =VLOOKUP($D18,PRECIOS_REFERENCIAS!A$3:D$100,4,FALSE) -> 308.82 | I18: =H18*F18 -> 617.64
E19: =VLOOKUP($D18,PRECIOS_REFERENCIAS!A$3:D$99,3,FALSE) -> SIMATIC S7-1500, Módulo de 32 Entradas Digitales // 6ES7521-1BL00-0AB0
A20: 01.01.08 | B20: INST. | C20: INST | D20: INST_ED | E20: =VLOOKUP($D20,PRECIOS_REFERENCIAS!A$3:D$99,2,FALSE) -> INSTALACION ED | F20: 2 | G20: UD. | H20: =VLOOKUP($D20,PRECIOS_REFERENCIAS!A$3:D$100,4,FALSE) -> 161.9731 | I20: =H20*F20 -> 323.9462
E21: =VLOOKUP($D20,PRECIOS_REFERENCIAS!A$3:D$99,3,FALSE) -> SUSTITUCIÓN DE MÓDULO DE E/S DIGITALES DE PLC EXISTENTE POR NUEVO MÓDULO DE PLC DEFINIDO. ENTRADA DIGITAL 16
A22: 01.01.09 | B22: INST. | C22: HARDWARE | D22: ENC_FRONTAL | E22: =VLOOKUP($D22,PRECIOS_REFERENCIAS!A$3:D$99,2,FALSE) -> SUMINISTRO ENCHUFE FRONTAL | F22: =F18 -> 2 | G22: UD. | H22: =VLOOKUP($D22,PRECIOS_REFERENCIAS!A$3:D$100,4,FALSE) -> 34.9875 | I22: =H22*F22 -> 69.975
E23: =VLOOKUP($D22,PRECIOS_REFERENCIAS!A$3:D$99,3,FALSE) -> Enchufe frontal Push-in (mód. de 35mm) // 6ES7592-1BM00-0XB0
A24: 01.01.10 | B24: SD1500 | C24: HARDWARE | D24: SD1500 | E24: =VLOOKUP($D24,PRECIOS_REFERENCIAS!A$3:D$99,2,FALSE) -> SUMINISTRO MÓDULO DE 32 SALIDAS DIGITALES | F24: 2 | G24: UD. | H24: =VLOOKUP($D24,PRECIOS_REFERENCIAS!A$3:D$100,4,FALSE) -> 439.44 | I24: =H24*F24 -> 878.88
E25: =VLOOKUP($D24,PRECIOS_REFERENCIAS!A$3:D$99,3,FALSE) -> SIMATIC S7-1500, Módulo de 32 Salidas Digitales // 6ES7522-1BL01-0AB0
A26: 01.01.11 | B26: INST. | C26: INST | D26: INST_SD | E26: =VLOOKUP($D26,PRECIOS_REFERENCIAS!A$3:D$99,2,FALSE) -> INSTALACION SD | F26: =F24 -> 2 | G26: UD. | H26: =VLOOKUP($D26,PRECIOS_REFERENCIAS!A$3:D$100,4,FALSE) -> 162.83522 | I26: =H26*F26 -> 325.67045
E27: =VLOOKUP($D26,PRECIOS_REFERENCIAS!A$3:D$99,3,FALSE) -> SUSTITUCIÓN DE MÓDULO DE E/S DIGITALES DE PLC EXISTENTE POR NUEVO MÓDULO DE PLC DEFINIDO. SALIDA DIGITAL 16
A28: 01.01.12 | B28: INST. | C28: HARDWARE | D28: ENC_FRONTAL | E28: =VLOOKUP($D28,PRECIOS_REFERENCIAS!A$3:D$99,2,FALSE) -> SUMINISTRO ENCHUFE FRONTAL | F28: =F24 -> 2 | G28: UD. | H28: =VLOOKUP($D28,PRECIOS_REFERENCIAS!A$3:D$100,4,FALSE) -> 34.9875 | I28: =H28*F28 -> 69.975
E29: =VLOOKUP($D28,PRECIOS_REFERENCIAS!A$3:D$99,3,FALSE) -> Enchufe frontal Push-in (mód. de 35mm) // 6ES7592-1BM00-0XB0
A30: 01.01.13 | B30: EA1500 | C30: HARDWARE | D30: EA1500 | E30: =VLOOKUP($D30,PRECIOS_REFERENCIAS!A$3:D$99,2,FALSE) -> SUMINISTRO MÓDULO DE 8 ENTRADAS ANALÓGICAS | F30: 2 | G30: UD. | H30: =VLOOKUP($D30,PRECIOS_REFERENCIAS!A$3:D$100,4,FALSE) -> 907.8075 | I30: =H30*F30 -> 1815.615
E31: =VLOOKUP($D30,PRECIOS_REFERENCIAS!A$3:D$99,3,FALSE) -> SIMATIC S7-1500, Módulo de Entradas analógicas AI 8 X U/R/RTD/TC HF // 6ES7531-7PF00-0AB0
A32: 01.01.14 | B32: INST. | C32: INST | D32: INST_EA | E32: =VLOOKUP($D32,PRECIOS_REFERENCIAS!A$3:D$99,2,FALSE) -> INSTALACION EA | F32: =F30 -> 2 | G32: UD. | H32: =VLOOKUP($D32,PRECIOS_REFERENCIAS!A$3:D$100,4,FALSE) -> 237.18352 | I32: =H32*F32 -> 474.36703
E33: =VLOOKUP($D32,PRECIOS_REFERENCIAS!A$3:D$99,3,FALSE) -> SUSTITUCIÓN DE MÓDULO DE E/S ANALÓGICAS DE PLC EXISTENTE POR NUEVO MÓDULO DE PLC DEFINIDO. ENTRADA ANALÓGICAS 8
A34: 01.01.15 | B34: INST. | C34: HARDWARE | D34: ENC_FRONTAL | E34: =VLOOKUP($D34,PRECIOS_REFERENCIAS!A$3:D$99,2,FALSE) -> SUMINISTRO ENCHUFE FRONTAL | F34: =F30 -> 2 | G34: UD. | H34: =VLOOKUP($D34,PRECIOS_REFERENCIAS!A$3:D$100,4,FALSE) -> 34.9875 | I34: =H34*F34 -> 69.975
E35: =VLOOKUP($D34,PRECIOS_REFERENCIAS!A$3:D$99,3,FALSE) -> Enchufe frontal Push-in (mód. de 35mm) // 6ES7592-1BM00-0XB0
A36: 01.01.16 | B36: SA1500 | C36: HARDWARE | D36: SA1500 | E36: =VLOOKUP($D36,PRECIOS_REFERENCIAS!A$3:D$99,2,FALSE) -> SUMINISTRO MÓDULO DE 4 SALIDAS ANALÓGICAS | F36: 1 | G36: UD. | H36: =VLOOKUP($D36,PRECIOS_REFERENCIAS!A$3:D$100,4,FALSE) -> 693.2175 | I36: =H36*F36 -> 693.2175
E37: =VLOOKUP($D36,PRECIOS_REFERENCIAS!A$3:D$99,3,FALSE) -> SIMATIC S7-1500, Módulo de Salidas analógicas AQ 4xU/I HF// 6ES7532-5ND00-0AB0
A38: 01.01.17 | B38: INST. | C38: INST | D38: INST_SA | E38: =VLOOKUP($D38,PRECIOS_REFERENCIAS!A$3:D$99,2,FALSE) -> INSTALACION SA | F38: =F36 -> 1 | G38: UD. | H38: =VLOOKUP($D38,PRECIOS_REFERENCIAS!A$3:D$100,4,FALSE) -> 160 | I38: =H38*F38 -> 160
E39: =VLOOKUP($D38,PRECIOS_REFERENCIAS!A$3:D$99,3,FALSE) -> SUSTITUCIÓN DE MÓDULO DE E/S ANALÓGICAS DE PLC EXISTENTE POR NUEVO MÓDULO DE PLC DEFINIDO. SALIDAS ANALÓGICAS 2
A40: 01.01.18 | B40: INST. | C40: HARDWARE | D40: ENC_FRONTAL | E40: =VLOOKUP($D40,PRECIOS_REFERENCIAS!A$3:D$99,2,FALSE) -> SUMINISTRO ENCHUFE FRONTAL | F40: =F36 -> 1 | G40: UD. | H40: =VLOOKUP($D40,PRECIOS_REFERENCIAS!A$3:D$100,4,FALSE) -> 34.9875 | I40: =H40*F40 -> 34.9875
...

Sheet PRECIOS_REFERENCIAS
B1: HARDWARE
B2: DESCRIPCION | C2: REFERENCIA | D2: Presupuesto unitario
A3: CPU | B3: SUMINISTRO DE CPU REMOTAS | C3: SIMATIC S7-1200 - CPU 1214C //6ES7214-1AG40-0XB0 | D3: 416.2875
A4: FA | B4: SUMINISTRO DE FUENTE ALIMENTACIÓN CPU REMOTAS | C4: SITOP PSU6200 24 V/10 A // 6EP3334-7SB00-3AX0 | D4: 180.015
A5: MC1200 | B5: TARJETA DE MEMORIA S7-1200 | C5: SIMATIC S7 Memory Card, 24 MB //6ES7954-8LF03-0AA0 | D5: 263.1375
A6: ED | B6: SUMINISTRO MÓDULO DE 16 ENTRADAS DIGITALES | C6: SIMATIC S7-1200, Módulo SM1221 //6ES7221-1BH32-0XB0 | D6: 177.5475
A7: SD | B7: SUMINISTRO MÓDULO DE 16 SALIDAS DIGITALES | C7: SIMATIC S7-1200, Módulo SM1222 //6ES7222-1BH32-0XB0 | D7: 177.5475
A8: EA | B8: SUMINISTRO MÓDULO DE 8 ENTRADAS ANALÓGICAS | C8: SIMATIC S7-1200, Módulo de Entradas analógicas, SM 1231, 8 EA //6ES7231-4HF32-0XB0 | D8: 372.3975
A9: SA | B9: SUMINISTRO MÓDULO DE 2 SALIDAS ANALÓGICAS | C9: SIMATIC S7-1200, Módulo de Salidas analógicas, SM 1232, 2 AO //6ES7232-4HB32-0XB0 | D9: 243.105
A10: TCOM1200 | B10: TARJETA COMUNICACIONES S7-1200 | C10: SIMATIC S7-1200 Modulo Ethernet CP 1243-1 //6GK7243-1BX30-0XE0 | D10: 518.67
A11: TCRTU_Cau | B11: TARJETA COMUNICACIÓN MODBUS CAUDALIMETRO | C11: TARJETA MODBUS RTU/RS485 para caudalímetro MAG 6000 // FDK:085U0234 | D11: 183.4875
A12: TCRTU | B12: TARJETA COMUNICACIÓN RS485 S7-1200 | C12: Modul de comunic. CM 1241, RS422/485 //6ES7241-1CH32-0XB0 | D12: 130.2
A13: ET200 | B13: SUMINISTRO DE ET200MP | C13: SIMATIC ET 200MP, IM 155-5 PN ST // 6ES7155-5AA01-0AB0 | D13: 416.925
A14: ET200_ED | B14: SUMINISTRO MÓDULO DE 32 ENTRADAS DIGITALES | C14: S7-1500, DI 32x24VDC HF// 6ES7521-1BL00-0AB0 | D14: 308.82
... A63: INST_IPL | B63: INSTALACION ROUTER 4G | C63: INSTALACIÓN DE ROUTER 4G | D63: 40
A64: INST_ANTENA | B64: INSTALACION ANTENA EXTERIOR | C64: INSTALACIÓN DE ANTENA EXTERIOR + KIT | D64: =298.061735443821*0.5 -> 149.03087
A65: INST_TRANS | B65: INSTALACION TRANSCEIVER | C65: INSTALACIÓN DE TRANSCEIVER ETHERNET - FIBRA OPTICA | D65: 97.523187
A66: INST_FO_PRESA | B66: INSTALACION FO PRESA | C66: INSTALACIÓN TIRADA DE CABLE FIBRA OPTICA EN LA PRESA | D66: 3
A67: PLANIFICAC | B67: PLANIFICACION | C67: PLANIFICACIÓN DE LOS TRABAJOS Y DESCARGA EN LOCAL DEL PROGRAMA DEL PLC | D67: 40
A68: ING | B68: INGENIERIA + ESQUEMAS | C68: INGENIERÍA DE ACTUALIZACIÓN DE ESQUEMAS ELÉCTRICOS. INCLUYE LA REVISIÓN LOCAL DE LOS CUADROS Y ELEMENTOS DE CONTROL, ASÍ COMO LA COMPROBACIÓN DE LAS SEÑALES DE CONTROL. | D68: 300
A69: REV_PROG | B69: REVISION PROGRAMA PLC | C69: REVISIÓN DEL PROGRAMA DE CONTROL Y DEFINICIÓN DE LA FUNCIONALIDAD DEL MISMO, DE ACUERDO A LA DIRECCIÓN CAG | D69: 60
A70: PROG_PLC | B70: PROGRAMA PLC NUEVO | C70: MIGRACION DEL PROGRAMA ACTUAL A LA NUEVA PLATAFORMA DE PROGRAMACION | D70: 407.75661
A71: PROG_HMI | B71: PROGRAMA HMI | C71: PROGRAMACION DE LA NUEVA PANTALLA HMI | D71: 340
A72: PME_REM | B72: PEM REMOTA | C72: PUESTA EN MARCHA DEL PROGRAMA DE CONTROL LOCAL | D72: 851.7
A73: SCADA_REM | B73: REVISION SCADA | C73: REVISIÓN DEL PROGRAMA DE SUPERVISIÓN SCADA | D73: 60
A74: PLANIFICAC_S1500 | B74: PLANIFICACION | C74: PLANIFICACIÓN DE LOS TRABAJOS Y DESCARGA EN LOCAL DEL PROGRAMA DEL PLC | D74: 300
A75: ING_ETAP | B75: INGENIERIA + ESQUEMAS | C75: INGENIERÍA DE ACTUALIZACIÓN DE ESQUEMAS ELÉCTRICOS. INCLUYE LA REVISIÓN LOCAL DE LOS CUADROS Y ELEMENTOS DE CONTROL, ASÍ COMO LA COMPROBACIÓN DE LAS SEÑALES DE CONTROL. | D75: 1000
A76: PROG_PLC_FE | B76: PROGRAMA PLC FE | C76: CONFIGURACIÓN, PARAMETRIZACIÓN Y PUESTA EN MARCHA DE COMUNICACIONES ENTRE EL FRONT END DEL PUESTO DE CONTROL CENTRAL (PCC) Y EL PLC, INCLUYENDO PRUEBAS EN TALLER Y EMPLAZAMIENTO | D76: =E76*F76 -> 3200 | E76: 200 | F76: 16
A77: PROG_FE_RED_1 | B77: PROGRAMA REMOTAS REDUNDANCIA COM FIBRA OPTICA | C77: PROGRAMACION DE LAS REMOTAS FIBRA CON REDUNDACIA DE COMUNICACIONES EN EL FRONT END DE COMUNICACIONES | D77: =E77*F77 -> 300 | E77: 100 | F77: 3
A78: PROG_FE_RED_2 | B78: PROGRAMA REMOTAS REDUNDANCIA COM SHDSL | C78: PROGRAMACION DE LAS REMOTAS SHDSL CON REDUNDACIA DE COMUNICACIONES EN EL FRONT END DE COMUNICACIONES | D78: =E78*F78 -> 400 | E78: 100 | F78: 4
A79: PROG_MOD | B79: PRGRAMA MODBUS REMOTA 1200 | C79: PROGRAMACION COMUNICACIÓN MODBUS CON OS CAUDALIMETROS | D79: 50
A80: PME_FE | B80: PEM REMOTA | C80: PUESTA EN MARCHA DE LA REMOTA COMPROBACION CORRECTA COMUNICACIÓN CON EL FRONT END Y EL SCADA | D80: =E80*F80 -> 1920 | E80: 120 | F80: 16
A81: PROG_PLC_CONTROL | B81: PROGRAMA PLC CONTROL ETAP | C81: MIGRACION DEL PROGRAMA ACTUAL A LA NUEVA PLATAFORMA DE PROGRAMACION | D81: 1000
A82: PME_ETAP | B82: PEM ETAP | C82: PUESTA EN MARCHA DE LA ETAP COMPROBACION CORRECTA FUNCIONAMIENTO DE LA ETAP | D82: 400 | E82: 120 | F82: 16
A83: SCADA_ETAP | B83: REVISION SCADA TRAS MIGRACION | C83: REVISIÓN DEL PROGRAMA DE SUPERVISIÓN SCADA DE LA ETAP TRAS LA MIGRACION DEL PLC | D83: 400
A84: ESTUDIO_CABLE | B84: ESTUDIO Y ADECUACIÓN DE LOS CABLES DE COMUNICACIONES | C84: ANÁLISIS GENERAL DE LA SOLUCIÓN DE COMUNICACIONES LÍNEA DE DEDICADA Y PROPUESTA DE SOLUCIÓN DEFINITIVA. ANÁLISIS DE CARACTERÍSTICAS DEL CABLE SEGÚN PPT DE LOS 13 SEGMENTOS DE TELEMANDO | D84: =(990+5350*(13/28))*1.15 -> 3995.0179
A85: PROG_SHDSL | B85: CONFIGURACIÓN & PRUEBAS OFFLINE SWITCHES SHDSL | C85: PROGRAMACIÓN DE LOS ROUTERS SHDSL EN FUNCIÓN DEL RESULTADO DEL ANALISIS DEL CABLE DE COMUNICACIONES | D85: =E85*F85+100 -> 1020 | E85: 57.5 | F85: 16
A86: PROG_RSTP | B86: CONFIGURACIÓN & PRUEBAS OFFLINE ROUTERS 4G RSTP | C86: PROGRAMACIÓN DE LOS ROUTERS 4G PARA LOS EQUIPOS DEL ANILLOS RSTP | D86: =E86*F86+90 -> 205 | E86: 57.5 | F86: 2
A87: PROG_R_FO | B87: CONFIGURACIÓN & PRUEBAS OFFLINE ROUTERS 4G REDUNDANCIA F.O | C87: PROGRAMACIÓN DE LOS ROUTERS 4G PARA LAS REMOTAS CON FIBRA OPTICA CON FUNCION REDUNDANCIA DE COMUNICACIONES | D87: =E87*F87+90 -> 262.5 | E87: 57.5 | F87: 3
A88: PROG_R_SHDSL | B88: CONFIGURACIÓN & PRUEBAS OFFLINE ROUTERS 4G REDUNDANCIA SHDSL | C88: PROGRAMACIÓN DE LOS ROUTERS 4G PARA LAS REMOTAS CON LINEA DEDICADA CON FUNCION REDUNDANCIA DE COMUNICACIONES | D88: =E88*F88+90 -> 320 | E88: 57.5 | F88: 4
...
